BEGIN:VCALENDAR
VERSION:2.0
PRODID:-//wp-events-plugin.com//7.1.2//EN
TZID:Europe/Madrid
X-WR-TIMEZONE:Europe/Madrid
BEGIN:VEVENT
UID:65@eurofins-environment.es
DTSTART;TZID=Europe/Madrid;VALUE=DATE:20250425
DTEND;TZID=Europe/Madrid;VALUE=DATE:20250426
DTSTAMP:20250407T120401Z
URL:https://www.eurofins-environment.es/events/dia-internacional-adn/
SUMMARY:Día Internacional del ADN
DESCRIPTION:La red de laboratorios de Eurofins Environment Testing Spain se
  une a la celebración del Día Internacional del ADN.
ATTACH;FMTTYPE=image/jpeg:https://www.eurofins-environment.es/wp-content/u
 ploads/2025/04/Dia-adn.jpg
LOCATION:http://www.dnaday.com/
END:VEVENT
BEGIN:VTIMEZONE
TZID:Europe/Madrid
X-LIC-LOCATION:Europe/Madrid
BEGIN:DAYLIGHT
DTSTART:20250330T030000
TZOFFSETFROM:+0100
TZOFFSETTO:+0200
TZNAME:CEST
END:DAYLIGHT
END:VTIMEZONE
END:VCALENDAR