BEGIN:VCALENDAR
VERSION:2.0
PRODID:-//wp-events-plugin.com//7.1.2//EN
TZID:Europe/Madrid
X-WR-TIMEZONE:Europe/Madrid
BEGIN:VEVENT
UID:5@eurofins-environment.es
DTSTART;TZID=Europe/Madrid;VALUE=DATE:20260322
DTEND;TZID=Europe/Madrid;VALUE=DATE:20260323
DTSTAMP:20260327T075257Z
URL:https://www.eurofins-environment.es/events/dia-mundial-agua/
SUMMARY:Día Mundial del Agua
DESCRIPTION:Eurofins Environment Testing Spain se une a las celebraciones d
 el Día Mundial del Agua 2026 este 22 de marzo.
ATTACH;FMTTYPE=image/jpeg:https://www.eurofins-environment.es/wp-content/u
 ploads/2025/03/Banner-Dia-Agua-2026.jpg
LOCATION:https://www.un.org/es/observances/water-day
END:VEVENT
BEGIN:VTIMEZONE
TZID:Europe/Madrid
X-LIC-LOCATION:Europe/Madrid
BEGIN:STANDARD
DTSTART:20251026T020000
TZOFFSETFROM:+0200
TZOFFSETTO:+0100
TZNAME:CET
END:STANDARD
END:VTIMEZONE
END:VCALENDAR